BEGIN:VCALENDAR
VERSION:2.0
PRODID:-//hacksw/handcal//NONSGML v1.0//EN
CALSCALE:GREGORIAN
BEGIN:VEVENT
DTEND:20230412T230000Z
UID: 69e755669be4f
DTSTAMP:20260421T054558Z
LOCATION:Swanson Stadium/Brunner Field
DESCRIPTION:The&nbsp\;Vikings baseball team&nbsp\;will play the Wheaton College Thunder.\n\n•&nbsp\;Vikings baseball schedule\n\n&nbsp\;\n
URL;VALUE=URI:https://www.augustana.edu/about-us/events/2023/baseball-vs-wheaton
SUMMARY:Baseball vs. Wheaton
DTSTART:20230412T230000Z
END:VEVENT
END:VCALENDAR
