BEGIN:VCALENDAR
VERSION:2.0
PRODID:-//hacksw/handcal//NONSGML v1.0//EN
CALSCALE:GREGORIAN
BEGIN:VEVENT
DTEND:20230319T193000Z
UID: 69e75927bc027
DTSTAMP:20260421T060159Z
LOCATION:Swanson Stadium/Brunner Field
DESCRIPTION:The Vikings baseball team will play the Dominican University Stars&nbsp\;in the Augustana Invitational Tournament.&nbsp\;\n\n•&nbsp\;Vikings baseball schedule\n\n&nbsp\;\n
URL;VALUE=URI:https://www.augustana.edu/about-us/events/2023/baseball-vs-dominican
SUMMARY:Baseball vs. Dominican
DTSTART:20230319T193000Z
END:VEVENT
END:VCALENDAR
