BEGIN:VCALENDAR
VERSION:2.0
PRODID:-//hacksw/handcal//NONSGML v1.0//EN
CALSCALE:GREGORIAN
BEGIN:VEVENT
DTEND:20230318T223000Z
UID: 69e743bfb7794
DTSTAMP:20260421T043039Z
LOCATION:Swanson Stadium/Brunner Field
DESCRIPTION:The&nbsp\;Vikings baseball team&nbsp\;will play the Buena University Beavers in the&nbsp\;second game of the Augustana Invitational Tournament. The Vikings will take on Dominican at 2:30 p.m. on Sunday.\n\n•&nbsp\;Vikings baseball schedule\n\n&nbsp\;\n
URL;VALUE=URI:https://www.augustana.edu/about-us/events/2023/baseball-vs-buena-vista
SUMMARY:Baseball vs. Buena Vista
DTSTART:20230318T223000Z
END:VEVENT
END:VCALENDAR
