BEGIN:VCALENDAR
VERSION:2.0
PRODID:-//hacksw/handcal//NONSGML v1.0//EN
CALSCALE:GREGORIAN
BEGIN:VEVENT
DTEND:20230212T200000Z
UID: 69e75cf8e1a62
DTSTAMP:20260421T061816Z
LOCATION:Olin Center for Educational Technology
DESCRIPTION:Sponsors of the QC Environmental Film Series will show "The Ground Between Us\," the story of current public lands debates alongside the day-to-day realities of three Native families.\n\nThe film is hosted by the Augustana Sierra Club chapter.\n\nThe QC Environmental Film Series planning committee includes members from River Action\, Nahant Marsh\, Sierra Club Eagle View Group\, the Jewish Federation of the Quad Cities and The Singh Family Foundation.&nbsp\;\n
URL;VALUE=URI:https://www.augustana.edu/about-us/events/2023/qc-environmental-film-series-ground-between-us
SUMMARY:QC Environmental Film Series: 'The Ground Between Us'
DTSTART:20230212T200000Z
END:VEVENT
END:VCALENDAR
