BEGIN:VCALENDAR
VERSION:2.0
PRODID:-//hacksw/handcal//NONSGML v1.0//EN
CALSCALE:GREGORIAN
BEGIN:VEVENT
DTEND:20230507T200000Z
UID: 69e755ba694ec
DTSTAMP:20260421T054722Z
LOCATION:Centennial Hall
DESCRIPTION:The Augustana Oratorio Society\, Augustana Choir\, Augustana Choral Artists\, and Augustana Symphony Orchestra are joining together to perform Duruflé Requiem Op. 9 and other choral works by French\, English and Brazilian composers.&nbsp\;\n\nThis setting of the Latin Requiem by Duruflé is for a solo voice\, mixed choir\, and organ\, or orchestra with organ.\n
URL;VALUE=URI:https://www.augustana.edu/about-us/events/2023/oratorio-society-durufle-requiem
SUMMARY:Oratorio Society: Duruflé requiem
DTSTART:20230507T200000Z
END:VEVENT
END:VCALENDAR
