BEGIN:VCALENDAR
VERSION:2.0
PRODID:-//hacksw/handcal//NONSGML v1.0//EN
CALSCALE:GREGORIAN
BEGIN:VEVENT
DTEND:20230429T003000Z
UID: 69e75927d2f72
DTSTAMP:20260421T060159Z
LOCATION:Centennial Hall
DESCRIPTION:Augustana's Jazz Ensemble&nbsp\;will perform a variety of classic and contemporary big band music\n
URL;VALUE=URI:https://www.augustana.edu/about-us/events/2023/jazz-ensemble-concert2
SUMMARY:Jazz Ensemble concert
DTSTART:20230429T003000Z
END:VEVENT
END:VCALENDAR
