BEGIN:VCALENDAR
VERSION:2.0
PRODID:-//hacksw/handcal//NONSGML v1.0//EN
CALSCALE:GREGORIAN
BEGIN:VEVENT
DTEND:20230111T173000Z
UID: 69e75cd680437
DTSTAMP:20260421T061742Z
LOCATION:Peter J. Lindberg\, M.D.\, Center for Health and Human Performance
DESCRIPTION:Nelly Cheboi '16\, who won CNN Hero of the Year for her work with TechLit Africa\, will offer a mini-lecture. The public is welcome.\n\nPlease note that seating will be limited.\n\nTechLit Africa is a nonprofit Cheboi co-founded that distributes recycled computers in schools in rural Kenya. As CNN Hero of the Year\, she will receive $100\,000 to expand her work.&nbsp\;\n
URL;VALUE=URI:https://www.augustana.edu/about-us/events/2023/mini-lecture-nelly-cheboi-16-cnn-hero-year
SUMMARY:Mini lecture by Nelly Cheboi '16\, CNN Hero of the Year
DTSTART:20230111T173000Z
END:VEVENT
END:VCALENDAR
