BEGIN:VCALENDAR
VERSION:2.0
PRODID:-//hacksw/handcal//NONSGML v1.0//EN
CALSCALE:GREGORIAN
BEGIN:VEVENT
DTEND:20230218T150000Z
UID: 69e755ba6fb65
DTSTAMP:20260421T054722Z
LOCATION:Carver P.E. Center
DESCRIPTION:High school seniors and transfer students are invited to visit Augustana College and participate in&nbsp\;Academic Scholarship Day.\n\nMore than 30 academic departments from 90 majors and other programs will participate. Learn about your chosen program and compete for a share of more than $500\,000 in departmental scholarships. Scholarship winners are awarded $4\,000 ($1\,000 a year for four years).&nbsp\;\n\nSchedule\n\n\n	\n		\n			9 a.m.\n			Check-in at the Roy J. Carver P.E. Center\n		\n		\n			9-9:45 a.m.\n			Augie Opportunities Fair\n		\n		\n			10-10:15 a.m.\n			Welcome address\n		\n		\n			10:30-11:30 a.m.\n			Academic Information Session\n		\n		\n			11:30 a.m.-12:30 p.m.&nbsp\;\n			Scholarship competition\n		\n		\n			11:45 a.m.- 12:30 p.m.\n			Parent sessions&nbsp\;\n		\n		\n			12:30 p.m.\n			Campus tours and lunch (optional)\n		\n		\n			12:30-3 p.m.\n			Wrap-up reception with Admissions\n		\n	\n\n\nInterested in competing as an art\, music or theatre student?&nbsp\;To compete for scholarships in these departments\, students must submit a&nbsp\;portfolio review\,&nbsp\;music audition&nbsp\;or&nbsp\;theatre audition.\n
URL;VALUE=URI:https://www.augustana.edu/about-us/events/2023/academic-scholarship-day
SUMMARY:Academic Scholarship Day
DTSTART:20230218T150000Z
END:VEVENT
END:VCALENDAR
