BEGIN:VCALENDAR
VERSION:2.0
PRODID:-//hacksw/handcal//NONSGML v1.0//EN
CALSCALE:GREGORIAN
BEGIN:VEVENT
DTEND:20230527T150000Z
UID: 69e75950d8b38
DTSTAMP:20260421T060240Z
LOCATION:Centennial Hall
DESCRIPTION:The Blessing of the Graduates: A Baccalaureate is a service for graduates.\n\nGraduates are invited to wear their caps and gowns and&nbsp\;sit with their families&nbsp\;and friends.&nbsp\;\n\nThe 163rd Commencement Convocation will follow at 2 p.m. at the Vibrant Arena at the Mark\, 1201 River Drive\, Moline\, Ill.&nbsp\;\n
URL;VALUE=URI:https://www.augustana.edu/about-us/events/2022/blessing-graduates-baccalaureate
SUMMARY:The Blessing of the Graduates: A Baccalaureate
DTSTART:20230527T150000Z
END:VEVENT
END:VCALENDAR
