BEGIN:VCALENDAR
VERSION:2.0
PRODID:-//hacksw/handcal//NONSGML v1.0//EN
CALSCALE:GREGORIAN
BEGIN:VEVENT
DTEND:20230510T003000Z
UID: 69ed0e4d8ceb6
DTSTAMP:20260425T135613Z
LOCATION:Denkmann Memorial Building
DESCRIPTION:The Augustana Jazz Combos will perform. The program is chosen to expand students’ abilities in various jazz styles\, with special emphasis on group interaction and improvisation.\n
URL;VALUE=URI:https://www.augustana.edu/about-us/events/2022/jazz-combos-concert-may
SUMMARY:Jazz Combos Concert
DTSTART:20230510T003000Z
END:VEVENT
END:VCALENDAR
