BEGIN:VCALENDAR
VERSION:2.0
PRODID:-//hacksw/handcal//NONSGML v1.0//EN
CALSCALE:GREGORIAN
BEGIN:VEVENT
DTEND:20230422T180000Z
UID: 69e75dd32d7fb
DTSTAMP:20260421T062155Z
LOCATION:Thorson-Lucken Field
DESCRIPTION:The Vikings women's lacrosse team will face the North Central College cardinals.\n\n→ 2023 lacrosse schedule\n
URL;VALUE=URI:https://www.augustana.edu/about-us/events/2022/womens-lacrosse-vs-north-central
SUMMARY:Women's lacrosse vs. North Central
DTSTART:20230422T180000Z
END:VEVENT
END:VCALENDAR
