BEGIN:VCALENDAR
VERSION:2.0
PRODID:-//hacksw/handcal//NONSGML v1.0//EN
CALSCALE:GREGORIAN
BEGIN:VEVENT
DTEND:20230308T180000Z
UID: 69e75a0fd74f8
DTSTAMP:20260421T060551Z
LOCATION:Thorson-Lucken Field
DESCRIPTION:The Vikings women's lacrosse team will face Cornell College.\n\n→ 2023 lacrosse schedule\n
URL;VALUE=URI:https://www.augustana.edu/about-us/events/2022/womens-lacrosse-vs-cornell
SUMMARY:Women's lacrosse vs. Cornell
DTSTART:20230308T180000Z
END:VEVENT
END:VCALENDAR
