BEGIN:VCALENDAR
VERSION:2.0
PRODID:-//hacksw/handcal//NONSGML v1.0//EN
CALSCALE:GREGORIAN
BEGIN:VEVENT
DTEND:20230104T010000Z
UID: 69e75dae48fde
DTSTAMP:20260421T062118Z
LOCATION:Carver P.E. Center
DESCRIPTION:The Augustana's men's wrestling team will face the St. Ambrose Fighting Bees.\n\nThe Vikings are 5-4 and&nbsp\;St. Ambrose is 2-13 record. The dual match will be livestreamed.\n\n&nbsp\;\n
URL;VALUE=URI:https://www.augustana.edu/about-us/events/2022/mens-wrestling-vs-st-ambrose
SUMMARY:Men's wrestling vs. St. Ambrose
DTSTART:20230104T010000Z
END:VEVENT
END:VCALENDAR
