BEGIN:VCALENDAR
VERSION:2.0
PRODID:-//hacksw/handcal//NONSGML v1.0//EN
CALSCALE:GREGORIAN
BEGIN:VEVENT
DTEND:20221203T020000Z
UID: 69e75da12b020
DTSTAMP:20260421T062105Z
LOCATION:Carver P.E. Center
DESCRIPTION:The Augustana's men's wrestling team will face Millikin University.\n\n&nbsp\;\n
URL;VALUE=URI:https://www.augustana.edu/about-us/events/2022/mens-wrestling-vs-millikin-university
SUMMARY:Men's Wrestling vs. Millikin University
DTSTART:20221203T020000Z
END:VEVENT
END:VCALENDAR
