BEGIN:VCALENDAR
VERSION:2.0
PRODID:-//hacksw/handcal//NONSGML v1.0//EN
CALSCALE:GREGORIAN
BEGIN:VEVENT
DTEND:20230107T160000Z
UID: 69e759dc99d6a
DTSTAMP:20260421T060500Z
LOCATION:Carver P.E. Center
DESCRIPTION:The Augustana's women's and men's wrestling teams will host the Fred Johnson Duals.\n\n&nbsp\;\n
URL;VALUE=URI:https://www.augustana.edu/about-us/events/2022/wrestling-fred-johnson-duals
SUMMARY:Wrestling: Fred Johnson Duals
DTSTART:20230107T160000Z
END:VEVENT
END:VCALENDAR
