BEGIN:VCALENDAR
VERSION:2.0
PRODID:-//hacksw/handcal//NONSGML v1.0//EN
CALSCALE:GREGORIAN
BEGIN:VEVENT
DTEND:20221225T140000Z
UID: 69e75d5549806
DTSTAMP:20260421T061949Z
LOCATION:
DESCRIPTION:This year's Christmas at Augustana performance will air from 8-9 a.m. and 2-3 p.m. today on WQAD-TV Channel 8.&nbsp\;\n
URL;VALUE=URI:https://www.augustana.edu/about-us/events/2022/christmas-augustana-rebroadcast
SUMMARY:Christmas at Augustana rebroadcast
DTSTART:20221225T140000Z
END:VEVENT
END:VCALENDAR
