BEGIN:VCALENDAR
VERSION:2.0
PRODID:-//hacksw/handcal//NONSGML v1.0//EN
CALSCALE:GREGORIAN
BEGIN:VEVENT
DTEND:20230211T010000Z
UID: 69e75d49029f1
DTSTAMP:20260421T061937Z
LOCATION:Denkmann Memorial Building
DESCRIPTION:Dr. Erin Freund will offer a harp recital. She is a part-time assistant professor of music at Augustana and teaches harp and music appreciation.&nbsp\;\n\nProgram\n\nImpromptu-Caprice\, Op.9\, Gabriel Pierné (1863-1937)\n\nMinstrel’s Adieu to his Native Land\, John Thomas (1826-1913)\n\n“Little” Fugue in G Minor BWV 578\, J.S. Bach (1685-1750)/arr. Erin Freund\n\nSonatine\, Op.30\, Marcel Tournier (1879-1951)\nI.&nbsp\;&nbsp\; &nbsp\;Allegrement\nII.&nbsp\;&nbsp\; &nbsp\;Calme et expressif\nIII.&nbsp\;&nbsp\; &nbsp\;Fièvreusement&nbsp\;\n\nIntermission\n\nScintillation\, Carlos Salzedo (1885-1961)\n\nVariations on a Theme in the Ancient Style\, Carlos Salzedo&nbsp\;\n&nbsp\;&nbsp\; &nbsp\;Theme\n&nbsp\;&nbsp\; &nbsp\;Double\n&nbsp\;&nbsp\; &nbsp\;Bourrée\n&nbsp\;&nbsp\; &nbsp\;Staccati&nbsp\;\n&nbsp\;&nbsp\; &nbsp\;Butterfly\n&nbsp\;&nbsp\; &nbsp\;Chords and Fluxes\n&nbsp\;&nbsp\; &nbsp\;Jumps\n&nbsp\;&nbsp\; &nbsp\;Trills\n&nbsp\;&nbsp\; &nbsp\;Scales and Arpeggios\n&nbsp\;&nbsp\; &nbsp\;Barcarolle\n&nbsp\;&nbsp\; &nbsp\;Prelude\n&nbsp\;&nbsp\; &nbsp\;Fugue\n&nbsp\;&nbsp\; &nbsp\;Cadenza\n&nbsp\;&nbsp\; &nbsp\;Conclusion\n&nbsp\;\n
URL;VALUE=URI:https://www.augustana.edu/about-us/events/2023/faculty-recital-erin-freund-harp
SUMMARY:Faculty recital: Erin Freund\, harp
DTSTART:20230211T010000Z
END:VEVENT
END:VCALENDAR
