BEGIN:VCALENDAR
VERSION:2.0
PRODID:-//hacksw/handcal//NONSGML v1.0//EN
CALSCALE:GREGORIAN
BEGIN:VEVENT
DTEND:20221122T003000Z
UID: 69e75956a898b
DTSTAMP:20260421T060246Z
LOCATION:Olin Center for Educational Technology
DESCRIPTION:Members of Augustana's political science faculty will explore the meaning of the 2022 midterm election from their various areas of expertise and the implications of our social and political climate.\n\nPanel members will include&nbsp\;Dr. Paul Baumgardner\, assistant professor\; Dr. Derek Glasgow\, visiting assistant professor\; and Dr. David Dehnel\, professor emeritus.\n\nThe public is welcome.\n\n&nbsp\;\n
URL;VALUE=URI:https://www.augustana.edu/about-us/events/2022/panel-discussion-midterm-elections-analysis
SUMMARY:Panel discussion: Midterm Elections Analysis
DTSTART:20221122T003000Z
END:VEVENT
END:VCALENDAR
