BEGIN:VCALENDAR
VERSION:2.0
PRODID:-//hacksw/handcal//NONSGML v1.0//EN
CALSCALE:GREGORIAN
BEGIN:VEVENT
DTEND:20170511T023000Z
UID: 69e77c7c7fdf8
DTSTAMP:20260421T083244Z
LOCATION:Bahls Campus Leadership Center
DESCRIPTION:Wednesday evening worship will not be held outdoors tonight\, due to the weather.\n\nAfter the service\, join Campus Ministries for a Week 10 Celebration\, with pizza\, pop and praise\n&nbsp\;\nWear your favorite Campus Ministries T-shirt. If you don't have a shirt ask a member of the Campus Ministries Leadership Team or visit&nbsp\;the Campus Ministries Office in Founders Hall.\n&nbsp\;\n
URL;VALUE=URI:https://www.augustana.edu/about-us/events/2017/wednesday-worship-indoors
SUMMARY:Wednesday worship (indoors)
DTSTART:20170511T023000Z
END:VEVENT
END:VCALENDAR
