BEGIN:VCALENDAR
VERSION:2.0
PRODID:-//hacksw/handcal//NONSGML v1.0//EN
CALSCALE:GREGORIAN
BEGIN:VEVENT
DTEND:20221113T203000Z
UID: 69e75cd605cf1
DTSTAMP:20260421T061742Z
LOCATION:
DESCRIPTION:WAUG-fm morning show host Anima Upadhyay will interview Arun Gandhi\,&nbsp\;grandson of Mahatma Gandhi.\n\nGandhi will speak on Monday in the&nbsp\;new Global Lecture Series at 7 p.m. in Centennial Hall.\n\nUpadhyay will discuss topics relevant to college students in this live on-air interview. It be recorded and played again at a later date.\n\nUpadhyay is a senior from Nepal. Her family listens to her weekly WAUG morning show from places around the world\, including Nepal\, Australia and Afghanistan.\n\nWAUG is Augustana College’s student-run radio station\, located in Rock Island\, Ill.\, broadcasting over the Internet.&nbsp\;\n
URL;VALUE=URI:https://www.augustana.edu/about-us/events/2022/waug-interview-arun-gandhi
SUMMARY:WAUG interview with Arun Gandhi
DTSTART:20221113T203000Z
END:VEVENT
END:VCALENDAR
