BEGIN:VCALENDAR
VERSION:2.0
PRODID:-//hacksw/handcal//NONSGML v1.0//EN
CALSCALE:GREGORIAN
BEGIN:VEVENT
DTEND:20221116T223000Z
UID: 69e76cd1852c3
DTSTAMP:20260421T072553Z
LOCATION:Hanson Hall of Science
DESCRIPTION:Augustana will hold its third annual GIS Day\, presenting research&nbsp\;by&nbsp\;students and community&nbsp\;partners at the U.S. Fish and Wildlife&nbsp\;Service and city of Rock Island\n\nThe event will run from 4:30-6 p.m.\n\nAugustana offers a minor in Geographic Information Science and Technology for students who want to enhance their chosen major with increased geospatial analysis skills.\n
URL;VALUE=URI:https://www.augustana.edu/about-us/events/2022/gis-day
SUMMARY:GIS Day
DTSTART:20221116T223000Z
END:VEVENT
END:VCALENDAR
