BEGIN:VCALENDAR
VERSION:2.0
PRODID:-//hacksw/handcal//NONSGML v1.0//EN
CALSCALE:GREGORIAN
BEGIN:VEVENT
DTEND:20221117T000000Z
UID: 69e7598ee2501
DTSTAMP:20260421T060342Z
LOCATION:Wilson Center
DESCRIPTION:Dr. Xiaowen Zhang\, professor and chair of political science\, will lead a local discussion in conjunction with a national town hall by the China National Committee on U.S.-China Relations.\n\nThe virtual town hall will feature&nbsp\;Jon M. Huntsman Jr.\,&nbsp\;former U.S. ambassador to Russia\, China and Singapore.\n\nThe National Committee on U.S.-China Relations promotes understanding and cooperation in the belief that sound and productive Sino-American relations serve vital American and world interests\n\nThe World Affairs Council of the Quad Cities is a sponsor of the local discussion. Anyone who would like to view the town hall remotely can sign up with the national committee for a link.\n
URL;VALUE=URI:https://www.augustana.edu/about-us/events/2022/china-town-hall
SUMMARY:China Town Hall
DTSTART:20221117T000000Z
END:VEVENT
END:VCALENDAR
