BEGIN:VCALENDAR
VERSION:2.0
PRODID:-//hacksw/handcal//NONSGML v1.0//EN
CALSCALE:GREGORIAN
BEGIN:VEVENT
DTEND:20230319T184500Z
UID: 69e75da16b458
DTSTAMP:20260421T062105Z
LOCATION:Peter J. Lindberg\, M.D.\, Center for Health and Human Performance
DESCRIPTION:The Augustana women's water polo team will take on the Wittenberg University Tigers.\n\n
URL;VALUE=URI:https://www.augustana.edu/about-us/events/2022/womens-water-polo-vs-wittenberg-university
SUMMARY:Women's water polo vs. Wittenberg University
DTSTART:20230319T184500Z
END:VEVENT
END:VCALENDAR
