BEGIN:VCALENDAR
VERSION:2.0
PRODID:-//hacksw/handcal//NONSGML v1.0//EN
CALSCALE:GREGORIAN
BEGIN:VEVENT
DTEND:20230319T140000Z
UID: 69e75d81dde90
DTSTAMP:20260421T062033Z
LOCATION:Peter J. Lindberg\, M.D.\, Center for Health and Human Performance
DESCRIPTION:The Augustana women's water polo team will take on the Austin College Kangaroos.\n
URL;VALUE=URI:https://www.augustana.edu/about-us/events/2022/womens-water-polo-vs-austin-college
SUMMARY:Women's water polo vs. Austin College
DTSTART:20230319T140000Z
END:VEVENT
END:VCALENDAR
