BEGIN:VCALENDAR
VERSION:2.0
PRODID:-//hacksw/handcal//NONSGML v1.0//EN
CALSCALE:GREGORIAN
BEGIN:VEVENT
DTEND:20230318T171500Z
UID: 69e75d8264eb4
DTSTAMP:20260421T062034Z
LOCATION:Peter J. Lindberg\, M.D.\, Center for Health and Human Performance
DESCRIPTION:The Augustana women's water polo team will take on the Carthage College Firebirds.\n
URL;VALUE=URI:https://www.augustana.edu/about-us/events/2022/womens-water-polo-vs-carthage
SUMMARY:Women's water polo vs. Carthage
DTSTART:20230318T171500Z
END:VEVENT
END:VCALENDAR
