BEGIN:VCALENDAR
VERSION:2.0
PRODID:-//hacksw/handcal//NONSGML v1.0//EN
CALSCALE:GREGORIAN
BEGIN:VEVENT
DTEND:20170223T223000Z
UID: 69e4e96c6884c
DTSTAMP:20260419T094044Z
LOCATION:Meson Sabika
DESCRIPTION:Alumni and friends are invited to a reception with the Augustana Choir from&nbsp\;4:30-6:30 p.m. at Meson Sabika\, 1025 Aurora Ave.\, Naperville. Cost is $15.\n\nAppetizers will be served and a cash bar will be available\n\nThe choir will perform at&nbsp\;7 p.m. concert at Our Saviour's Lutheran Church\, 815 S. Washington St.\, Naperville.\n\nThe Metea Valley High School Chamber Singers and the Yorkville High School Choir will perform with Augustana at the concert.\n\nThe choir will work with hundreds of high school students and perform for many alumni and friends as it travels to Naperville and Arlington Heights in Illinois\, and Appleton\, Madison\, Ripon and Waukesha in Wisconsin.\n\n•&nbsp\;Register&nbsp\;for the Naperville reception\n\nSee the choir itinerary\n\nProgram\n\nCombined choir selections:\n\nConsecrate the Place and Day\, Lloyd Pfautsch&nbsp\;\n\nHark I Hear the Harps Eternal\, arr. Alice Parker&nbsp\;\n\nExsultate\, Brian Edward Galante (b. 1974)&nbsp\;\n\nEsto Les Digo\, Kinley Lange (b. 1950)&nbsp\;\n&nbsp\; &nbsp\;Katie Griswold\,&nbsp\;soprano&nbsp\;\n\nImprovisation on Ubi Caritas\n&nbsp\; &nbsp\;Ubi Caritas\, Gregorian Chant\n&nbsp\; &nbsp\;Ubi Caritas\, Maurice Duruflé (1902-1986)&nbsp\;\n&nbsp\; &nbsp\;Tu es Petrus\, Gregorian Chant\n&nbsp\; &nbsp\;Tu es Petrus\, Maurice Duruflé&nbsp\;\n\nAlleluia\, Fredrik Sixten (b. 1962)&nbsp\;\n\nÕhtul\, Pärt Uusberg (b. 1986)&nbsp\;\n\nRotala\, Juris Karlsons (b. 1948)&nbsp\;\n\nFengyang Song\, arr. Chen Yi (b. 1953)&nbsp\;\n\nMo-Li-Hua\, arr. Hyo-won Woo (b. 1974)&nbsp\;\n\nMamayog Akun\, Fabian Obispo (b. 1947)&nbsp\;\n\nLet My Love Be Heard\, Jake Runestad (b. 1986)&nbsp\;\n\nSo I’ll Sing With My Voice\, Dominick Argento (b. 1927)&nbsp\;\n\nChildren of the Heavenly Father\, arr. Jon Hurty (b. 1959)\n\n&nbsp\;\n
URL;VALUE=URI:https://www.augustana.edu/about-us/events/2017/naperville-choir-reception-and-concert
SUMMARY:Naperville choir reception and concert
DTSTART:20170223T223000Z
END:VEVENT
END:VCALENDAR
