BEGIN:VCALENDAR
VERSION:2.0
PRODID:-//hacksw/handcal//NONSGML v1.0//EN
CALSCALE:GREGORIAN
BEGIN:VEVENT
DTEND:20170222T230000Z
UID: 69e4eea2287cd
DTSTAMP:20260419T100258Z
LOCATION:Peggy Kinnane's Irish Restaurant and Pub
DESCRIPTION:Alumni and friends are invited to a pre-concert reception&nbsp\;from&nbsp\;&nbsp\;5-7 p.m.&nbsp\;at Peggy Kinnane's&nbsp\;Irish Restaurant and Pub\, 8 N. Vail Ave.\, Arlington Heights.\n\nHearty appetizers will be served and a cash bar will be available. Cost is $15.\n\nThe choir will perform at 7:30 p.m. at Our Saviour's Lutheran Church\, 1234 N. Arlington Heights Rd.\n\nThe Lake Zurich High School Concert Choir and James B. Conant Chamber Choir will perform with Augustana at the concert.\n\nThe choir will work with hundreds of high school students and perform for many alumni and friends as it travels to Rockford\, Naperville and Arlington Heights in Illinois\, and Appleton\, Madison and Waukesha in Wisconsin.\n\n•&nbsp\;Register&nbsp\;for the Arlington Heights reception\n\nProgram\n\nCombined choir selections:\n\nConsecrate the Place and Day\, Lloyd Pfautsch&nbsp\;\n\nHark I Hear the Harps Eternal\, arr. Alice Parker&nbsp\;\n\nExsultate\, Brian Edward Galante (b. 1974)&nbsp\;\n\nEsto Les Digo\, Kinley Lange (b. 1950)&nbsp\;\n&nbsp\; &nbsp\;Katie Griswold\,&nbsp\;soprano&nbsp\;\n\nImprovisation on Ubi Caritas\n&nbsp\; &nbsp\;Ubi Caritas\, Gregorian Chant\n&nbsp\; &nbsp\;Ubi Caritas\, Maurice Duruflé (1902-1986)&nbsp\;\n&nbsp\; &nbsp\;Tu es Petrus\, Gregorian Chant\n&nbsp\; &nbsp\;Tu es Petrus\, Maurice Duruflé&nbsp\;\n\nAlleluia\, Fredrik Sixten (b. 1962)&nbsp\;\n\nÕhtul\, Pärt Uusberg (b. 1986)&nbsp\;\n\nRotala\, Juris Karlsons (b. 1948)&nbsp\;\n\nFengyang Song\, arr. Chen Yi (b. 1953)&nbsp\;\n\nMo-Li-Hua\, arr. Hyo-won Woo (b. 1974)&nbsp\;\n\nMamayog Akun\, Fabian Obispo (b. 1947)&nbsp\;\n\nLet My Love Be Heard\, Jake Runestad (b. 1986)&nbsp\;\n\nSo I’ll Sing With My Voice\, Dominick Argento (b. 1927)&nbsp\;\n\nChildren of the Heavenly Father\, arr. Jon Hurty (b. 1959)\n
URL;VALUE=URI:https://www.augustana.edu/about-us/events/2017/arlington-heights-reception-and-augustana-choir-concert
SUMMARY:Arlington Heights reception and Augustana Choir concert
DTSTART:20170222T230000Z
END:VEVENT
END:VCALENDAR
