BEGIN:VCALENDAR
VERSION:2.0
PRODID:-//hacksw/handcal//NONSGML v1.0//EN
CALSCALE:GREGORIAN
BEGIN:VEVENT
DTEND:20221020T220000Z
UID: 69e75d55558e2
DTSTAMP:20260421T061949Z
LOCATION:
DESCRIPTION:Dag Blanck\, director of the&nbsp\;Swenson Swedish Immigration Research Center at Augustana\, will present "Looking Across the Atlantic: Swedish-American Relations in the 20th Century."\n\nBlanck\, a professor of North American Studies at Uppsala University\, Sweden\, and Monica Obniski\, curator of Decorative Arts and Design at High Museum of Art in Atlanta\, Ga.\, will discuss Swedish-American relations and how ideas\, conceptions and images travel between the two countries.\n\nThis event is a collaboration between the Embassy of Sweden in Washington\, D.C.\, and Anekdot Magazine at Stockholm University in Sweden.\n
URL;VALUE=URI:https://www.augustana.edu/about-us/events/2022/looking-across-atlantic-swedish-american-relations-20th-century
SUMMARY:Looking Across the Atlantic: Swedish-American Relations in the 20th Century
DTSTART:20221020T220000Z
END:VEVENT
END:VCALENDAR
