BEGIN:VCALENDAR
VERSION:2.0
PRODID:-//hacksw/handcal//NONSGML v1.0//EN
CALSCALE:GREGORIAN
BEGIN:VEVENT
DTEND:20221025T210000Z
UID: 69e759a3f1730
DTSTAMP:20260421T060403Z
LOCATION:WVIK 90.3 FM
DESCRIPTION:Quad Cities NPR affiliate WVIK will host a reception from 4-7 p.m. in honor of Jay Pearce\, chief executive officer and general manager\, who retire Oct. 28 after 11 years at the station.\n\nListeners and admirers can share tributes by&nbsp\;emailing&nbsp\;info@wvik.org.\n
URL;VALUE=URI:https://www.augustana.edu/about-us/events/2022/wvik-reception-honor-jay-pearce
SUMMARY:WVIK reception in honor of Jay Pearce
DTSTART:20221025T210000Z
END:VEVENT
END:VCALENDAR
