BEGIN:VCALENDAR
VERSION:2.0
PRODID:-//hacksw/handcal//NONSGML v1.0//EN
CALSCALE:GREGORIAN
BEGIN:VEVENT
DTEND:20221015T150000Z
UID: 69e759ae8e0cb
DTSTAMP:20260421T060414Z
LOCATION:Denkmann Memorial Building
DESCRIPTION:Augustana College will celebrate the inauguration of its ninth president\, Andrea Talentino\, on Oct. 14-15.\n\nAs part of the inauguration celebration\, arts and academic sessions on a variety of topics will be presented.\n\nIn this session\, music faculty will perform a variety of classic and contemporary musical works.\n\nFeatured performers include&nbsp\;Dr. Michelle Crouch\, soprano\; Dr. Deborah Dakin\, violin\; Dr. Janina Ehrlich\, cello\; Dr. Robert Elfline\, piano\; Dr. Randall Hall\, saxophone\; Dr. Samantha Keehn\, trombone\; Dr. Patrick McNally\, baritone\; Dr. Charles Schmidt\, piano\; Dr. Amanda Sherrill\, piano\; Dr. Susan Stone\, violin\; and Dr. Yana Yan\, flute.\n
URL;VALUE=URI:https://www.augustana.edu/about-us/events/2022/music-faculty-recital
SUMMARY:Music faculty recital
DTSTART:20221015T150000Z
END:VEVENT
END:VCALENDAR
