BEGIN:VCALENDAR
VERSION:2.0
PRODID:-//hacksw/handcal//NONSGML v1.0//EN
CALSCALE:GREGORIAN
BEGIN:VEVENT
DTEND:20221014T200000Z
UID: 69e77dcda5b8d
DTSTAMP:20260421T083821Z
LOCATION:Denkmann Memorial Building
DESCRIPTION:Augustana College will celebrate the inauguration of its ninth president\, Andrea Talentino\, on Oct. 14-15.\n\nAs part of the inauguration celebration\, academic sessions on a variety of topics will be presented.\n\nIn this session\, directors of three current and upcoming programs will discuss how they are shaping programs:&nbsp\; a&nbsp\; new disability minor\, a new minor in integrative medicine and the humanities\; and a new program for film and new media.\n\nPresenters will be Dr. Cathy Webb\, assistant professor of communication sciences and disorders\, on the disability program\;&nbsp\;Dr. Heidi Storl\, professor of philosophy\, on the integrative medicine and the humanities program\; and&nbsp\;Stacy Barton\, associate professor and director of film and new media\, on the film program.\n\nAll academic sessions will be offered in Wallenberg Hall\, Denkmann Memorial Building\; see a complete description of&nbsp\;topics and presenters.\n
URL;VALUE=URI:https://www.augustana.edu/about-us/events/2022/new-programs-augustana
SUMMARY:New programs at Augustana
DTSTART:20221014T200000Z
END:VEVENT
END:VCALENDAR
