BEGIN:VCALENDAR
VERSION:2.0
PRODID:-//hacksw/handcal//NONSGML v1.0//EN
CALSCALE:GREGORIAN
BEGIN:VEVENT
DTEND:20221014T190000Z
UID: 69e77fbdb3aff
DTSTAMP:20260421T084637Z
LOCATION:Denkmann Memorial Building
DESCRIPTION:Augustana College will celebrate the inauguration of its ninth president\, Andrea Talentino\, on Oct. 14-15.\n\nAs part of the inauguration celebration\, academic sessions on a variety of topics will be presented.\n\nThe Rock Island Lead Service Line Project will be presented by&nbsp\;Dr. Michael Reisner\, director\, Upper Mississippi Center for Sustainable Communities\; Dr. Kimberly Murphy\, director\, Center for Advancement of Community Health and Wellness\;&nbsp\;Dr. Jenny Arkle\, Upper Mississippi Center program manager\; and&nbsp\;Megan Baker\, GIS specialist\, city of Rock Island.\n\nIn 2021\, Illinois enacted the Lead Service Line Replacement and Notification Act. The act requires the inventorying lead service lines (LSLs)\, replacing of all LSLs within deadlines\, and implementing financing strategies to fund such replacements. The act also requires that the entire process be just and equitable by requiring the prioritization of low-income\, vulnerable neighborhoods.\n\nAugustana students and faculty will partner with the city of Rock Island to collaboratively implement the LSL Replacement and Notification Act.&nbsp\;\n\nAll academic sessions will be offered in Wallenberg Hall\, Denkmann Memorial Building\; see a complete description of topics and presenters.\n
URL;VALUE=URI:https://www.augustana.edu/about-us/events/2022/rock-island-lead-service-line-project
SUMMARY:Rock Island Lead Service Line Project
DTSTART:20221014T190000Z
END:VEVENT
END:VCALENDAR
