BEGIN:VCALENDAR
VERSION:2.0
PRODID:-//hacksw/handcal//NONSGML v1.0//EN
CALSCALE:GREGORIAN
BEGIN:VEVENT
DTEND:20221010T213000Z
UID: 69e78040c62ac
DTSTAMP:20260421T084848Z
LOCATION:Centennial Hall
DESCRIPTION:The Chamber Choir Festival will include the Moline High School Choir\, Woodstock High School Choir\, Lake Zurich High School Choir\, Augustana Concert Chorale\, Jenny Lind Vocal Ensemble and Augustana Choir. &nbsp\;\n\nAll six choirs will be joining together for two combined choir works at the end of the concert.\n
URL;VALUE=URI:https://www.augustana.edu/about-us/events/2022/chamber-choir-festival
SUMMARY:Chamber Choir Festival
DTSTART:20221010T213000Z
END:VEVENT
END:VCALENDAR
