BEGIN:VCALENDAR
VERSION:2.0
PRODID:-//hacksw/handcal//NONSGML v1.0//EN
CALSCALE:GREGORIAN
BEGIN:VEVENT
DTEND:20230318T003000Z
UID: 69e78055d854e
DTSTAMP:20260421T084909Z
LOCATION:Centennial Hall
DESCRIPTION:Winners of the Augustana Symphony Orchestra Concerto Competition&nbsp\;will perform as soloists.\n\nThey are Alex Sell\, bass trombone\; Adele Shirkey\, flute\; and Abriana Tereza\, soprano.\n\nSell is a sophomore from&nbsp\;Rosemount\, Minn. He will perform Christopher Brubeck's "Concerto for Bass Trombone\, &nbsp\;Movement III: James Brown in the Twilight Zone."\n\nShirkey&nbsp\;is a sophomore from&nbsp\;Schaumburg\, Ill.\, majoring in music education.&nbsp\;Shirkey&nbsp\;will perform Carl Reinecke's "Flute Concerto\, Movement I."\n\nTereza is a junior from Port Barrington\, Ill.\,&nbsp\;majoring in music education. The soprano&nbsp\;will perform "Ain't it a Pretty Night" and "The Trees on the Mountain" from Carlisle Floyd's "Susannah."\n\nUp to three winners are selected by a panel of outside judges in the annual competition\, which is open to all students.\n
URL;VALUE=URI:https://www.augustana.edu/about-us/events/2022/augustana-symphony-orchestra-concert-0
SUMMARY:Augustana Symphony Orchestra Concert
DTSTART:20230318T003000Z
END:VEVENT
END:VCALENDAR
