BEGIN:VCALENDAR
VERSION:2.0
PRODID:-//hacksw/handcal//NONSGML v1.0//EN
CALSCALE:GREGORIAN
BEGIN:VEVENT
DTEND:20221102T003000Z
UID: 69e782852a45e
DTSTAMP:20260421T085829Z
LOCATION:Denkmann Memorial Building
DESCRIPTION:Yana Zixuan Yan will perform a flute recital\, accompanied by Amanda Sherrill.\n\nDr. Yan performs in a variety of genres\, including baroque\, contemporary\, chamber and orchestral music. She has taught flute lessons and chamber music classes since 2019 and has been invited to give flute masterclasses throughout the U.S. and China\n\nProgram\n\nPrélude à laprès-midi d’un faune (1894) by Claude Debussy 1862-1918)\n(Arrangement by Donald Peck)\n\nSonatine for solo piccolo Op. 6 (2018) by Elise Bertrand (b. 2000\n&nbsp\;&nbsp\;&nbsp\;Adagio\n&nbsp\;&nbsp\;&nbsp\;Largo\, Allegro\n&nbsp\;&nbsp\;&nbsp\;Intermezzo\n&nbsp\;&nbsp\;&nbsp\;Rondo\n\nSonata No. 3 for flute and piano (1933) by Philippe Gaubert (1879-1941)\n&nbsp\;&nbsp\;&nbsp\;Allegretto\n&nbsp\;&nbsp\;&nbsp\;Intermède pastorale: Très modéré\n&nbsp\;&nbsp\;&nbsp\;Joyeux – Allegretto\n\nDivertimento for flute and piano (1953) by Jean Françaix (1912-1997)\n&nbsp\;&nbsp\;&nbsp\;Toccatina\n&nbsp\;&nbsp\;&nbsp\;Notturno\n&nbsp\;&nbsp\;&nbsp\;Perpetuum mobile\n&nbsp\;&nbsp\;&nbsp\;Romanza\n&nbsp\;&nbsp\;&nbsp\;Finale\n\nLe Rire De Sarai (2002) by Guillaume Connesson (b. 1970)\n&nbsp\;&nbsp\;&nbsp\;La plainte d ́Agar\n&nbsp\;&nbsp\;&nbsp\;Bénédiction de l ́Alliance\n
URL;VALUE=URI:https://www.augustana.edu/about-us/events/2022/faculty-recital-yana-yan-flute
SUMMARY:Faculty recital: Yana Yan\, flute
DTSTART:20221102T003000Z
END:VEVENT
END:VCALENDAR
