BEGIN:VCALENDAR
VERSION:2.0
PRODID:-//hacksw/handcal//NONSGML v1.0//EN
CALSCALE:GREGORIAN
BEGIN:VEVENT
DTEND:20220921T000000Z
UID: 69e7816778dfc
DTSTAMP:20260421T085343Z
LOCATION:Carver P.E. Center
DESCRIPTION:The Augustana women's volleyball team&nbsp\;will play the North Central Cardinals.\n\nHome schedule&nbsp\; &nbsp\; &nbsp\; &nbsp\;&nbsp\; &nbsp\;&nbsp\;\n\nSept. 30: 7 p.m. vs. Illinois Wesleyan&nbsp\; &nbsp\; &nbsp\;\n\nOct. 1: 11 a.m. vs. Loras\n\nOct. 1: 3 p.m. vs. Grinnell\n\nOct. 22: 2 p.m. vs. North Park\n\nOct. 26: 7 p.m. vs. Carroll\n
URL;VALUE=URI:https://www.augustana.edu/about-us/events/2022/womens-volleyball-vs-north-central
SUMMARY:Women's volleyball vs. North Central
DTSTART:20220921T000000Z
END:VEVENT
END:VCALENDAR
