BEGIN:VCALENDAR
VERSION:2.0
PRODID:-//hacksw/handcal//NONSGML v1.0//EN
CALSCALE:GREGORIAN
BEGIN:VEVENT
DTEND:20170511T010000Z
UID: 69e922708fdb2
DTSTAMP:20260422T143304Z
LOCATION:Denkmann Memorial Building
DESCRIPTION:Dr. Kristín Jónína Taylor\, associate professor of piano at Waldorf College\, will perform.&nbsp\;\n\nAfter attending secondary school in Iceland\, she&nbsp\;received a doctorate of musical arts in piano performance at the University of Cincinnati College-Conservatory of Music.\n\nShe returned to Iceland on a Fulbright grant in 2004-05 to&nbsp\;research&nbsp\;Icelandic composer Jon Nordal.&nbsp\;Taylor received a second Fulbright Scholar grant in 2010 to return to Iceland and research the music of another Icelandic composer\, Thorkell Sigurbjornsson.\n\n&nbsp\;\n\nProgram:&nbsp\;\n\nEnglish Suite No. 6 in a minor\, BWV 811&nbsp\; &nbsp\;J.S. Bach&nbsp\;(1685-1750)\nI. Prelude\nII. Allemande\nIII. Courante\nIV. Sarabande &amp\;Double\nV. Gavotte 1 &amp\;2\nVI. Gigue\n\nIntermission\n\n“Ständchen” from Schwanengesang&nbsp\; &nbsp\; Franz Schubert (1797-1828) arr. Franz Liszt (1811-1886)\n\n“O\, du mein holder Abendstern”&nbsp\;from Tannhäuser&nbsp\; &nbsp\;&nbsp\;R. Wagner&nbsp\;(1813-1883) arr. Franz Liszt (1811-1886)\n\nSonatine\, Op. 16&nbsp\; &nbsp\; Albert Rousel (1869-1937)\nI. Modéré- Très énergique/Scherzo: Vit et monquer\nII. Très lent- Modéré-Trè animé/Finale\n\nVier Klavierstücke\, Op. 119&nbsp\; &nbsp\; Johannes Brahms&nbsp\;(1833-1897)\nI. Intermezzo in b minor\nII. Intermezzo in e minor\nIII. Intermezzo in C major\nIV. Rhapsody in E-flat Major\n
URL;VALUE=URI:https://www.augustana.edu/about-us/events/2017/guest-recital-kristin-taylor-piano
SUMMARY:Guest recital: Kristín Taylor\, piano
DTSTART:20170511T010000Z
END:VEVENT
END:VCALENDAR
