BEGIN:VCALENDAR
VERSION:2.0
PRODID:-//hacksw/handcal//NONSGML v1.0//EN
CALSCALE:GREGORIAN
BEGIN:VEVENT
DTEND:20221006T150000Z
UID: 69e782cd593e9
DTSTAMP:20260421T085941Z
LOCATION:
DESCRIPTION:A Virtual Quad Cities and Western Illinois Region Career Fair will run from 10 a.m.-2 p.m. on the Handshake platform.\n\nStudents will be able to meet with employers and hiring organizations at their virtual booths through one-on-one sessions and interviews.\n\nThe fair will include local and regional employers offering internships\, apprenticeships\, part-time\, and full-time positions in business\, government\, health care\, manufacturing\, non-profits\, science and social services.\n
URL;VALUE=URI:https://www.augustana.edu/about-us/events/2022/virtual-quad-cities-and-western-illinois-region-career-fair
SUMMARY:Virtual Quad Cities and Western Illinois Region Career Fair
DTSTART:20221006T150000Z
END:VEVENT
END:VCALENDAR
