BEGIN:VCALENDAR
VERSION:2.0
PRODID:-//hacksw/handcal//NONSGML v1.0//EN
CALSCALE:GREGORIAN
BEGIN:VEVENT
DTEND:20230114T160000Z
UID: 69e77f8103e1b
DTSTAMP:20260421T084537Z
LOCATION:Peter J. Lindberg\, M.D.\, Center for Health and Human Performance
DESCRIPTION:The Augustana men's and women's swim teams will take on the Monmouth Scots.\n
URL;VALUE=URI:https://www.augustana.edu/about-us/events/2022/swimming-vs-monmouth-college
SUMMARY:Swimming vs. Monmouth College
DTSTART:20230114T160000Z
END:VEVENT
END:VCALENDAR
