BEGIN:VCALENDAR
VERSION:2.0
PRODID:-//hacksw/handcal//NONSGML v1.0//EN
CALSCALE:GREGORIAN
BEGIN:VEVENT
DTEND:20230219T010000Z
UID: 69e780eef3ce6
DTSTAMP:20260421T085142Z
LOCATION:Carver P.E. Center
DESCRIPTION:The Vikings men's basketball team will play the North Park University Vikings.\n
URL;VALUE=URI:https://www.augustana.edu/about-us/events/2022/mens-basketball-vs-north-park-university
SUMMARY:Men's basketball vs. North Park University
DTSTART:20230219T010000Z
END:VEVENT
END:VCALENDAR
