BEGIN:VCALENDAR
VERSION:2.0
PRODID:-//hacksw/handcal//NONSGML v1.0//EN
CALSCALE:GREGORIAN
BEGIN:VEVENT
DTEND:20230205T010000Z
UID: 69e7827b3c3f5
DTSTAMP:20260421T085819Z
LOCATION:Carver P.E. Center
DESCRIPTION:The Vikings men's basketball team will play the Carthage College Firebirds.\n\nHome games 2022-23\n\nAll games begin at 7 p.m. unless otherwise noted.\n\nFeb. 18 vs. North Park\n
URL;VALUE=URI:https://www.augustana.edu/about-us/events/2022/mens-basketball-vs-carthage-college
SUMMARY:Men's basketball vs. Carthage College
DTSTART:20230205T010000Z
END:VEVENT
END:VCALENDAR
