BEGIN:VCALENDAR
VERSION:2.0
PRODID:-//hacksw/handcal//NONSGML v1.0//EN
CALSCALE:GREGORIAN
BEGIN:VEVENT
DTEND:20230218T230000Z
UID: 69e7928b645fe
DTSTAMP:20260421T100651Z
LOCATION:Carver P.E. Center
DESCRIPTION:The Vikings women's basketball team will play North Park University.\n
URL;VALUE=URI:https://www.augustana.edu/about-us/events/2022/womens-basketball-vs-north-park
SUMMARY:Women's basketball vs. North Park
DTSTART:20230218T230000Z
END:VEVENT
END:VCALENDAR
