BEGIN:VCALENDAR
VERSION:2.0
PRODID:-//hacksw/handcal//NONSGML v1.0//EN
CALSCALE:GREGORIAN
BEGIN:VEVENT
DTEND:20230204T230000Z
UID: 69e792ba496da
DTSTAMP:20260421T100738Z
LOCATION:Carver P.E. Center
DESCRIPTION:The Vikings women's basketball team will play Carthage College.\n\nMore upcoming home games:\n\nFeb. 15\, 7 p.m.\, North Central\nFeb. 18\, 5 p.m.\, North Park\n
URL;VALUE=URI:https://www.augustana.edu/about-us/events/2022/womens-basketball-vs-carthage
SUMMARY:Women's basketball vs. Carthage
DTSTART:20230204T230000Z
END:VEVENT
END:VCALENDAR
