BEGIN:VCALENDAR
VERSION:2.0
PRODID:-//hacksw/handcal//NONSGML v1.0//EN
CALSCALE:GREGORIAN
BEGIN:VEVENT
DTEND:20221229T000000Z
UID: 69e7a95e3366d
DTSTAMP:20260421T114414Z
LOCATION:Carver P.E. Center
DESCRIPTION:The Vikings women's basketball team will play UW-Platteville.\n\nMore upcoming home games:\n\nJan. 8\, 2 p.m.\, Carroll\nJan. 25\, 7 p.m.\, Elmhurst\nJan. 28\, 5 p.m.\, Illinois Wesleyan\nFeb. 4\, 5 p.m.\, Carthage\nFeb. 15\, 7 p.m.\, North Central\nFeb. 18\, 5 p.m.\, North Park\n
URL;VALUE=URI:https://www.augustana.edu/about-us/events/2022/womens-basketball-vs-uw-platteville
SUMMARY:Women's basketball vs. UW-Platteville
DTSTART:20221229T000000Z
END:VEVENT
END:VCALENDAR
