BEGIN:VCALENDAR
VERSION:2.0
PRODID:-//hacksw/handcal//NONSGML v1.0//EN
CALSCALE:GREGORIAN
BEGIN:VEVENT
DTEND:20221015T180000Z
UID: 69e794abb934f
DTSTAMP:20260421T101555Z
LOCATION:Tennis Courts
DESCRIPTION:The Vikings will play the Carthage College Firebirds at home.\n\nSpring matchups\, as well as information on the conference tournament\, will be announced at a later date.\n
URL;VALUE=URI:https://www.augustana.edu/about-us/events/2022/womens-tennis-vs-carthage
SUMMARY:Women's tennis vs. Carthage
DTSTART:20221015T180000Z
END:VEVENT
END:VCALENDAR
