BEGIN:VCALENDAR
VERSION:2.0
PRODID:-//hacksw/handcal//NONSGML v1.0//EN
CALSCALE:GREGORIAN
BEGIN:VEVENT
DTEND:20221007T203000Z
UID: 69e792ea20c88
DTSTAMP:20260421T100826Z
LOCATION:Tennis Courts
DESCRIPTION:The Vikings will play the North Central College Cardinals at home.\n\nOther home matches:\n\nOct. 8 vs. Elmhurst\n\nOct. 15 vs. Carthage\,&nbsp\;1 p.m.\n\nSpring matchups\, as well as information on the conference tournament\, will be announced at a later date.\n
URL;VALUE=URI:https://www.augustana.edu/about-us/events/2022/womens-tennis-vs-north-central
SUMMARY:Women's tennis vs. North Central
DTSTART:20221007T203000Z
END:VEVENT
END:VCALENDAR
