BEGIN:VCALENDAR
VERSION:2.0
PRODID:-//hacksw/handcal//NONSGML v1.0//EN
CALSCALE:GREGORIAN
BEGIN:VEVENT
DTEND:20220918T183000Z
UID: 69e7925137a20
DTSTAMP:20260421T100553Z
LOCATION:Tennis Courts
DESCRIPTION:The Vikings will play the Carroll University Pioneers at home.\n\nAugustana will play an all-CCIW fall slate\, with one other individual tournament Sept. 30-Oct. 2 at the ITA Regional Championships in St. Louis.\n\nOther home matches:\n\nOct. 7 vs. North Central\, 3:30 p.m.\n\nOct. 8 vs. Elmhurst\n\nOct. 15 vs. Carthage\,&nbsp\;1 p.m.\n\nSpring matchups\, as well as information on the conference tournament\, will be announced at a later date.\n
URL;VALUE=URI:https://www.augustana.edu/about-us/events/2022/womens-tennis-vs-carroll
SUMMARY:Women's tennis vs. Carroll
DTSTART:20220918T183000Z
END:VEVENT
END:VCALENDAR
