BEGIN:VCALENDAR
VERSION:2.0
PRODID:-//hacksw/handcal//NONSGML v1.0//EN
CALSCALE:GREGORIAN
BEGIN:VEVENT
DTEND:20220731T223000Z
UID: 69ed0e4dd7dc2
DTSTAMP:20260425T135613Z
LOCATION:
DESCRIPTION:Augustana music faculty Randall Hall (saxophone) and Robert Elfline (piano) will present a free concert.&nbsp\;\n\nIn the event of rain\, the concert will be moved into First Congregational United Church of Christ (across from the bandshell).\n
URL;VALUE=URI:https://www.augustana.edu/about-us/events/2022/faculty-concert-park
SUMMARY:Faculty concert in the park
DTSTART:20220731T223000Z
END:VEVENT
END:VCALENDAR
