BEGIN:VCALENDAR
VERSION:2.0
PRODID:-//hacksw/handcal//NONSGML v1.0//EN
CALSCALE:GREGORIAN
BEGIN:VEVENT
DTEND:20221027T000000Z
UID: 69e7974075996
DTSTAMP:20260421T102656Z
LOCATION:Thorson-Lucken Field
DESCRIPTION:Augustana women's soccer will play the North Central College Cardinals in their regular season finale.\n\n• Livestream\n\nThe Vikings are at 9-5-3 overall and 3-2-2 in the CCIW\, with an unbeaten streak of four games. Their draw with&nbsp\;draw with the Carroll Pioneers last weekend clinches Augie a spot in the upcoming conference tournament.\n
URL;VALUE=URI:https://www.augustana.edu/about-us/events/2022/womens-soccer-vs-north-central
SUMMARY:Women's soccer vs. North Central
DTSTART:20221027T000000Z
END:VEVENT
END:VCALENDAR
