BEGIN:VCALENDAR
VERSION:2.0
PRODID:-//hacksw/handcal//NONSGML v1.0//EN
CALSCALE:GREGORIAN
BEGIN:VEVENT
DTEND:20221015T180000Z
UID: 69e7925841556
DTSTAMP:20260421T100600Z
LOCATION:Thorson-Lucken Field
DESCRIPTION:Augustana women's soccer will play the Adrian College Bulldogs on Oct. 15.\n\n• Livestream\n\nUpcoming home games:\n\nOct. 26 vs. North Central\, 7 p.m.\n
URL;VALUE=URI:https://www.augustana.edu/about-us/events/2022/womens-soccer-vs-adrian
SUMMARY:Women's soccer vs. Adrian
DTSTART:20221015T180000Z
END:VEVENT
END:VCALENDAR
